BEGIN:VCALENDAR
VERSION:2.0
PRODID:-//ImpulsKMU//NONSGML kigkonsult.se iCalcreator 2.16.12//
METHOD:PUBLISH
X-MS-OLK-FORCEINSPECTOROPEN:TRUE
BEGIN:VEVENT
UID:20260424T155547CEST-15201zLHpw@ImpulsKMU
DTSTAMP:20260424T135547Z
DESCRIPTION:\n\nMarkus zeigt dir in diesem praxisnahen Referat\, wie du dir
  eine ABC Kunden-Struktur erarbeitest und ein super wertvolles “Frühwarnsy
 stem” einrichtest\, damit du nicht in für dein Business gefährliche unrent
 able Abwärtsspirale gerätst.\n\n\n\nGrobprogramm\n\n\n	Die richtige Kundens
 truktur - grosse Hebelwirkung\n	Ableitung Strategie für die richtige Kunden
 struktur\n	Lieblingskunden entdecken und gewinnen (Beispiele aus der Praxis
 )\n\n\nNutzen\n\n\n	Die Methode ABC-Kundenstruktur kennenlernen\n	Anwendung 
 der Methode in der Praxis\n	Mittelfristig mehr Ertrag und Gewinn\n\n\nKondi
 tionen\n\n\n	Maximal 8 Teilnehmende\n	Preis: CHF 69 per Rechnung innert 30 T
 agen \n	CEO-Club: mit Promocode kostenlos\n\n\n\n\nReferent\n\n\n\n\nMehr z
 u Markus Binggeli erfahren\n\n\n\n„Wir bringen KMU vorwärts!“\n\n \n\nMark
 us Binggeli\n\nInhaber und Geschäftsführer der netzpuls AG\n\n\n\n
DTSTART:20260826T150000
DTEND:20260826T163000
LOCATION:Campus der netzpuls AG
ORGANIZER:MAILTO:ImpulsKMU <info@impulskmu.ch>
SUMMARY:Impuls-Referat: Rentable Kundenstrukturen aufbauen
END:VEVENT
END:VCALENDAR
