BEGIN:VCALENDAR
VERSION:2.0
PRODID:-//ImpulsKMU//NONSGML kigkonsult.se iCalcreator 2.16.12//
METHOD:PUBLISH
X-MS-OLK-FORCEINSPECTOROPEN:TRUE
BEGIN:VEVENT
UID:20260424T154455CEST-7899s95Ovm@ImpulsKMU
DTSTAMP:20260424T134455Z
DESCRIPTION:\n\nWer nicht regelmässig AM Unternehmen arbeitet und «nur» im 
 Unternehmen\, wird früher oder später in einer Strategischen Krise enden. 
 Während dem Tagesgeschäft die Strategie zu entwickeln oder umzusetzen ist 
 eine grosse Herausforderung.\n\nIn diesem Seminar lernen Sie die wichtigst
 en Komponenten kennen\, wie man diese entwickelt und auch umsetzt. Mit die
 sem Rüstzeug sichern Sie die Zukunft vom Unternehmen\, bringen das Unterne
 hmen auf Erfolgskurs und lassen es gezielt wachsen.\n\n\n\nZielgruppen\n\n
 \n	Inhaber und Geschäftsleitungsmitglieder von KMU (10 bis 500 MA)\n	Selbsts
 tändige\, Startup und Kleinunternehmen (1 bis 9 MA)\n	Verantwortliche von G
 eschäftsbereichen in grösseren Unternehmen\n	Branchenunabhängig: Handwerker
 \, Dienstleistungen\, IT/Telco\, Industrie und NGO\n\n\nInhalte\n\n\n	Grund
 lagen: Ziele\, Zielgruppen und Markt\n	Die Kraft einer echten Positionierun
 g und wie man dazu kommt.\n	Einen wirklichen USP (Unique Selling Propositio
 n) entwickeln.\n	Wie Sie mit bestehenden Kunden den Umsatz erheblich steige
 rn.\n	Neukundengewinnung effizient und systematisch.\n	Konkrete Praxisbeispi
 ele aus verschiedenen Branchen\n\n\n \n\n\n'Das Seminar von netzpuls AG\, 
 geleitet durch Markus Binggeli war absolut phänomenal! Der Tag war nicht n
 ur inspirierend\, sondern auch unglaublich hilfreich. Ich habe eine klare 
 Strategie entwickelt\, die ich jetzt umsetzen kann. Vielen Dank für diese 
 wertvollen Impulse!'\n- Christoph Lehmann\, Finanzfokus GmbH\n\n\n \n\nHer
 ausforderungen\n\n\n	Keine Zeit für die Strategieumsetzung im Tagesgeschäft
 .\n	Die Zeit verfliegt und Wochen später ist noch nichts umgesetzt.\n	Eigent
 lich wissen wir nicht so genau\, welche Komponenten in einer praxisorienti
 erten Strategie gehören.\n	Wir haben den Weg für eine sukzessive und zuverl
 ässige Umsetzung noch nicht gefunden.\n\n\nNutzen\nDeshalb zahl sich das S
 emianr noch in der selben Woche aus:\n\n\n	Klares und strukturiertes Vorgeh
 en für die Entwicklung der Unternehmensstrategie kennen lernen.\n	Mit einer
  echten Positionierung und einem echten USP einen Kundenmagnet erschaffen.
 \n	Umsatzsteigerung von mindestens 10% innert 12 Monaten mit den bestehende
 n Kunden.\n	GAP-Analyse für sinnvolles und wirkungsvolles Marketing.\n	Konkr
 ete Tipps wie eine Unternehmensstrategie umgesetzt wird – ohne Wenn und Ab
 er.\n\n\nKonditionen\n\n\n	Preis (exkl. MWSt): CHF 480 je Teilnehmer/in\n	In
 kl. Praxiserfahrung\, Tipps\, Unterlagen (pdf per Mail)\, Getränke\, Pause
 nverpflegung und Mittagessen\n	Teilnehmerzahl ist auf 6 Teilnehmende limiti
 ert.\n\n\nSeminarleitung\n\nMarkus Binggeli\, Inhaber und Geschäftsführer 
 der netzpuls AG baut mit viel Kompetenz\, Erfahrung und Leidenschaft Unter
 nehmensstrategien für Unternehmen auf. Die Umsetzung ist dabei ein grosser
  Antrieb von Binggeli.\n\n«Besser drei gute Massnahmen auf der Strasse\, a
 ls hundert gute Ideen in der Schublade.» ist ein Zitat von Binggeli\, dass
  oft schon so weitergegeben wird. Dieses Grundprinzip erlebt man bereits i
 m Seminar. Es werden bereits Grundlagen für das eigene Unternehmernehmen e
 rarbeitet und die Umsetzung eingeplant.\n\n«Wir bringen KMU vorwärts!»\, d
 ies ist das Credo der netzpuls AG und genau so wird es gehandhabt. Einer d
 er Unternehmenswerte heisst «Mehrwert kreieren» und dies wird konsequent b
 ei allen Aufgaben eingesetzt.\n \n\n\n\nReferent\n\n\n\n\n\nMehr zu Markus
  Binggeli erfahren  »\n\n\n\n\n„Wir bringen KMU vorwärts!“\n\n \n\nMarkus 
 Binggeli\n\nGeschäftsführer und Inhaber netzpuls AG\n\n\n\n
DTSTART:20261028T090000
DTEND:20261028T160000
LOCATION:Campus der netzpuls AG
ORGANIZER:MAILTO:ImpulsKMU <info@impulskmu.ch>
SUMMARY:Seminar: Unternehmens-Strategie entwickeln und umsetzen
END:VEVENT
END:VCALENDAR
