BEGIN:VCALENDAR
VERSION:2.0
PRODID:-//ImpulsKMU//NONSGML kigkonsult.se iCalcreator 2.16.12//
METHOD:PUBLISH
X-MS-OLK-FORCEINSPECTOROPEN:TRUE
BEGIN:VEVENT
UID:20260424T154456CEST-0510JhGOIh@ImpulsKMU
DTSTAMP:20260424T134456Z
DESCRIPTION:\n\nOft wird SEO - Search Engine Optimisation von Agenturen und
  'Experten' aus dem Ausland angeboten. Doch was ist SEO genau\, was kann e
 in KMU selber umsetzen und wann benötige ich eine spezialisierte Agentur d
 azu.\n\n\n\nGrobprogramm\n\n\n	Einführung SEO\n	Unternehmerische und Strateg
 ische Überlegungen zu SEO \n	Wie ein KMU SEO angehen kann\n	Erste Umsetzungs
 schritte und Praxistipps\n\n\nNutzen\n\n\n	Einblick in SEO erhalten\n	Angebo
 te einordnen können\n	SEO als Werkzeug in KMU-Marketing sinnvoll einsetzen
 \n	Sichtbarkeit bei Google steigern\, wo es sinnvoll ist\n\n\nKonditionen\n
 \n\n	Maximal 8 Teilnehmende\n	Preis: CHF 69 per Rechnung innert 30 Tagen \n	C
 EO-Club: mit Promocode kostenlos\n\n\n\n\nReferent\n\n\n\n\nMehr zu Markus
  Binggeli erfahren\n\n\n\n„Wir bringen KMU vorwärts!“\n\n \n\nMarkus Bingg
 eli\n\nInhaber und Geschäftsführer der netzpuls AG\n\n\n\n
DTSTART:20260916T150000
DTEND:20260916T163000
LOCATION:Campus der netzpuls AG
ORGANIZER:MAILTO:ImpulsKMU <info@impulskmu.ch>
SUMMARY:Impuls-Referat: SEO für KMU in der Praxis
END:VEVENT
END:VCALENDAR
