BEGIN:VCALENDAR
VERSION:2.0
PRODID:-//ImpulsKMU//NONSGML kigkonsult.se iCalcreator 2.16.12//
METHOD:PUBLISH
X-MS-OLK-FORCEINSPECTOROPEN:TRUE
BEGIN:VEVENT
UID:20260424T154402CEST-9404tUtz61@ImpulsKMU
DTSTAMP:20260424T134402Z
DESCRIPTION:Programm Unternehmer Herbstanlass\n\nNeu findet dieser Anlass i
 m Eisfeld in Langnau i. E. statt.\n\n18.00 - Eintreffen\n18.15 - Begrüssun
 g\, Networking und Vorstellung\n18.45- Nachtessen: Fondue\n\nPreis:\n\n\n	D
 ie Konsumation (Fondue\, Getränke\, ...) wird selbst getragen.\n\n\nBezahl
 bar vor Ort direkt beim Eisfeld Langnau im Emmental.\n\n \n\n \n\nOrganisa
 tion:\n\nCEO-Club und netzpuls AG\n\nImpressionen Unternehmer Herbstanlass
  Emmental 2025\n\nSiehe die Impressionen vom Unternehmer Herbstanlass Emme
 ntal 2025 >\n\n\n
DTSTART:20261111T180000
DTEND:20261111T220000
LOCATION:Eisfeld
ORGANIZER:MAILTO:ImpulsKMU <info@impulskmu.ch>
SUMMARY:Unternehmer Herbstanlass im Emmental
END:VEVENT
END:VCALENDAR
